BEGIN:VCALENDAR
VERSION:2.0
PRODID:-//eventon.com NONSGML v1.0//EN
CALSCALE:GREGORIAN
METHOD:PUBLISH
BEGIN:VEVENT
UID:69e5457c3adc4
DTSTAMP:20260419T211332Z
DTSTART:20221024T120000Z
DTEND:20221028T160000Z
LOCATION:Jeff Cook Training Center 261 Bozeman Rd Adel GA
SUMMARY:Apprentice Class 61B
DESCRIPTION:ECG’s Powerline Workers Apprenticeship Program is a three-yea
 r certification designed to enhance utility employees’ knowledge and skil
 ls in this field. Powerline workers are responsible for building\,  improvi
 ng\,  and maintaining the poles and wires that deliver electricity to custo
 mers. The program is certified by the U.S. Department of Labor and has[..]\
 nhttps://ecoga.org/events/apprentice-class-61b/
URL:https://ecoga.org/events/apprentice-class-61b/
END:VEVENT
END:VCALENDAR