BEGIN:VCALENDAR
VERSION:2.0
PRODID:-//eventon.com NONSGML v1.0//EN
CALSCALE:GREGORIAN
METHOD:PUBLISH
BEGIN:VEVENT
UID:69e509096f3d8
DTSTAMP:20260419T165537Z
DTSTART:20220617T210000Z
DTEND:20220618T000000Z
LOCATION:Jeff Cook Training Center 261 Bozeman Rd Adel GA
SUMMARY:Class 57 Graduation
DESCRIPTION:Class 57 Graduation\nhttps://ecoga.org/events/class-57-graduati
 on/
URL:https://ecoga.org/events/class-57-graduation/
END:VEVENT
END:VCALENDAR