BEGIN:VCALENDAR
VERSION:2.0
PRODID:-//eventon.com NONSGML v1.0//EN
CALSCALE:GREGORIAN
METHOD:PUBLISH
BEGIN:VEVENT
UID:69ebcfe0838cc
DTSTAMP:20260424T201736Z
DTSTART:20210423T090000Z
DTEND:20210423T130000Z
LOCATION:Adel Training Center 261 Bozeman Rd Adel GA
SUMMARY:Graduation Class 55
DESCRIPTION:Graduation Class 55\nhttps://ecoga.org/events/graduation-class-
 55/
URL:https://ecoga.org/events/graduation-class-55/
END:VEVENT
END:VCALENDAR