BEGIN:VCALENDAR
VERSION:2.0
PRODID:-//eventon.com NONSGML v1.0//EN
CALSCALE:GREGORIAN
METHOD:PUBLISH
BEGIN:VEVENT
UID:69e639884d73f
DTSTAMP:20260420T143448Z
DTSTART:20200325T100000Z
DTEND:20200325T120000Z
LOCATION:MEAG Training Center 148 Powerhouse Rd Forsyth GA
SUMMARY:ECG Board Meeting
DESCRIPTION:ECG Board Meeting\nhttps://ecoga.org/events/ecg-board-meeting-9
 /
URL:https://ecoga.org/events/ecg-board-meeting-9/
END:VEVENT
END:VCALENDAR