BEGIN:VCALENDAR
VERSION:2.0
PRODID:-//eventon.com NONSGML v1.0//EN
CALSCALE:GREGORIAN
METHOD:PUBLISH
BEGIN:VEVENT
UID:69e5ee84484b1
DTSTAMP:20260420T091444Z
DTSTART:20200203T130000Z
DTEND:20200207T120000Z
LOCATION:Ocala Training Center 1805 NE 30TH Ave. Bldg. 400
SUMMARY:Florida Powerline Workers Apprenticeship Class 6A
DESCRIPTION:For more information on Registration CLICK HERE\nhttps://ecoga.
 org/events/florida-powerline-workers-apprenticeship-class-5a/
URL:https://ecoga.org/events/florida-powerline-workers-apprenticeship-class-5a/
END:VEVENT
END:VCALENDAR